BEGIN:VCALENDAR
VERSION:2.0
PRODID:-//City of Radcliff - ECPv6.15.20//NONSGML v1.0//EN
CALSCALE:GREGORIAN
METHOD:PUBLISH
X-ORIGINAL-URL:https://radcliff.org
X-WR-CALDESC:Events for City of Radcliff
REFRESH-INTERVAL;VALUE=DURATION:PT1H
X-Robots-Tag:noindex
X-PUBLISHED-TTL:PT1H
BEGIN:VTIMEZONE
TZID:UTC
BEGIN:STANDARD
TZOFFSETFROM:+0000
TZOFFSETTO:+0000
TZNAME:UTC
DTSTART:20240101T000000
END:STANDARD
END:VTIMEZONE
BEGIN:VEVENT
DTSTART;TZID=UTC:20260421T173000
DTEND;TZID=UTC:20260421T183000
DTSTAMP:20260425T182223
CREATED:20190220T154240Z
LAST-MODIFIED:20190220T154240Z
UID:3954-1776792600-1776796200@radcliff.org
SUMMARY:Radcliff City Council Meeting
DESCRIPTION:
URL:https://radcliff.org/event/radcliff-city-council-meeting/2026-04-21/
LOCATION:City Hall\, 411 W Lincoln Trail Blvd\, Radcliff\, KY\, 40160\, United States
END:VEVENT
BEGIN:VEVENT
DTSTART;TZID=UTC:20260414T170000
DTEND;TZID=UTC:20260414T180000
DTSTAMP:20260425T182223
CREATED:20180215T192440Z
LAST-MODIFIED:20180215T192440Z
UID:3950-1776186000-1776189600@radcliff.org
SUMMARY:Radcliff Code Enforcement Meeting
DESCRIPTION:
URL:https://radcliff.org/event/radcliff-code-enforcement-meeting/2026-04-14/
LOCATION:Radcliff Fire Dept.\, 610 South Wilson Road\, Radcliff\, 40160
CATEGORIES:City Events,Event Calendar
END:VEVENT
BEGIN:VEVENT
DTSTART;TZID=UTC:20260413T170000
DTEND;TZID=UTC:20260413T180000
DTSTAMP:20260425T182223
CREATED:20180215T192416Z
LAST-MODIFIED:20180215T192416Z
UID:3948-1776099600-1776103200@radcliff.org
SUMMARY:City Council Work Session
DESCRIPTION:
URL:https://radcliff.org/event/city-council-work-session/2026-04-13/
LOCATION:City Hall\, 411 W Lincoln Trail Blvd\, Radcliff\, KY\, 40160\, United States
CATEGORIES:City Council,Event Calendar
END:VEVENT
BEGIN:VEVENT
DTSTART;TZID=UTC:20260413T170000
DTEND;TZID=UTC:20260413T180000
DTSTAMP:20260425T182223
CREATED:20180215T192416Z
LAST-MODIFIED:20180215T192416Z
UID:3949-1776099600-1776103200@radcliff.org
SUMMARY:City Council Work Session
DESCRIPTION:
URL:https://radcliff.org/event/city-council-work-session-2023-05-08/2026-04-13/
LOCATION:City Hall\, 411 W Lincoln Trail Blvd\, Radcliff\, KY\, 40160\, United States
CATEGORIES:City Council,Event Calendar
END:VEVENT
BEGIN:VEVENT
DTSTART;TZID=UTC:20260402T170000
DTEND;TZID=UTC:20260402T180000
DTSTAMP:20260425T182223
CREATED:20180727T152432Z
LAST-MODIFIED:20180727T152432Z
UID:3947-1775149200-1775152800@radcliff.org
SUMMARY:Radcliff Planning Commission Meeting
DESCRIPTION:
URL:https://radcliff.org/event/radcliff-planning-commission-meeting/2026-04-02/
LOCATION:KY
END:VEVENT
BEGIN:VEVENT
DTSTART;TZID=UTC:20260317T173000
DTEND;TZID=UTC:20260317T183000
DTSTAMP:20260425T182223
CREATED:20190220T154240Z
LAST-MODIFIED:20190220T154240Z
UID:3946-1773768600-1773772200@radcliff.org
SUMMARY:Radcliff City Council Meeting
DESCRIPTION:
URL:https://radcliff.org/event/radcliff-city-council-meeting/2026-03-17/
LOCATION:City Hall\, 411 W Lincoln Trail Blvd\, Radcliff\, KY\, 40160\, United States
END:VEVENT
BEGIN:VEVENT
DTSTART;TZID=UTC:20260310T170000
DTEND;TZID=UTC:20260310T180000
DTSTAMP:20260425T182223
CREATED:20180215T192440Z
LAST-MODIFIED:20180215T192440Z
UID:3945-1773162000-1773165600@radcliff.org
SUMMARY:Radcliff Code Enforcement Meeting
DESCRIPTION:
URL:https://radcliff.org/event/radcliff-code-enforcement-meeting/2026-03-10/
LOCATION:Radcliff Fire Dept.\, 610 South Wilson Road\, Radcliff\, 40160
CATEGORIES:City Events,Event Calendar
END:VEVENT
BEGIN:VEVENT
DTSTART;TZID=UTC:20260309T170000
DTEND;TZID=UTC:20260309T180000
DTSTAMP:20260425T182223
CREATED:20180215T192416Z
LAST-MODIFIED:20180215T192416Z
UID:3943-1773075600-1773079200@radcliff.org
SUMMARY:City Council Work Session
DESCRIPTION:
URL:https://radcliff.org/event/city-council-work-session/2026-03-09/
LOCATION:City Hall\, 411 W Lincoln Trail Blvd\, Radcliff\, KY\, 40160\, United States
CATEGORIES:City Council,Event Calendar
END:VEVENT
BEGIN:VEVENT
DTSTART;TZID=UTC:20260309T170000
DTEND;TZID=UTC:20260309T180000
DTSTAMP:20260425T182223
CREATED:20180215T192416Z
LAST-MODIFIED:20180215T192416Z
UID:3944-1773075600-1773079200@radcliff.org
SUMMARY:City Council Work Session
DESCRIPTION:
URL:https://radcliff.org/event/city-council-work-session-2023-05-08/2026-03-09/
LOCATION:City Hall\, 411 W Lincoln Trail Blvd\, Radcliff\, KY\, 40160\, United States
CATEGORIES:City Council,Event Calendar
END:VEVENT
BEGIN:VEVENT
DTSTART;TZID=UTC:20260305T170000
DTEND;TZID=UTC:20260305T180000
DTSTAMP:20260425T182223
CREATED:20180727T152432Z
LAST-MODIFIED:20180727T152432Z
UID:3942-1772730000-1772733600@radcliff.org
SUMMARY:Radcliff Planning Commission Meeting
DESCRIPTION:
URL:https://radcliff.org/event/radcliff-planning-commission-meeting/2026-03-05/
LOCATION:KY
END:VEVENT
BEGIN:VEVENT
DTSTART;TZID=UTC:20260217T173000
DTEND;TZID=UTC:20260217T183000
DTSTAMP:20260425T182223
CREATED:20190220T154240Z
LAST-MODIFIED:20190220T154240Z
UID:3941-1771349400-1771353000@radcliff.org
SUMMARY:Radcliff City Council Meeting
DESCRIPTION:
URL:https://radcliff.org/event/radcliff-city-council-meeting/2026-02-17/
LOCATION:City Hall\, 411 W Lincoln Trail Blvd\, Radcliff\, KY\, 40160\, United States
END:VEVENT
BEGIN:VEVENT
DTSTART;TZID=UTC:20260210T170000
DTEND;TZID=UTC:20260210T180000
DTSTAMP:20260425T182223
CREATED:20180215T192440Z
LAST-MODIFIED:20180215T192440Z
UID:3940-1770742800-1770746400@radcliff.org
SUMMARY:Radcliff Code Enforcement Meeting
DESCRIPTION:
URL:https://radcliff.org/event/radcliff-code-enforcement-meeting/2026-02-10/
LOCATION:Radcliff Fire Dept.\, 610 South Wilson Road\, Radcliff\, 40160
CATEGORIES:City Events,Event Calendar
END:VEVENT
BEGIN:VEVENT
DTSTART;TZID=UTC:20260209T170000
DTEND;TZID=UTC:20260209T180000
DTSTAMP:20260425T182223
CREATED:20180215T192416Z
LAST-MODIFIED:20180215T192416Z
UID:3938-1770656400-1770660000@radcliff.org
SUMMARY:City Council Work Session
DESCRIPTION:
URL:https://radcliff.org/event/city-council-work-session/2026-02-09/
LOCATION:City Hall\, 411 W Lincoln Trail Blvd\, Radcliff\, KY\, 40160\, United States
CATEGORIES:City Council,Event Calendar
END:VEVENT
BEGIN:VEVENT
DTSTART;TZID=UTC:20260209T170000
DTEND;TZID=UTC:20260209T180000
DTSTAMP:20260425T182223
CREATED:20180215T192416Z
LAST-MODIFIED:20180215T192416Z
UID:3939-1770656400-1770660000@radcliff.org
SUMMARY:City Council Work Session
DESCRIPTION:
URL:https://radcliff.org/event/city-council-work-session-2023-05-08/2026-02-09/
LOCATION:City Hall\, 411 W Lincoln Trail Blvd\, Radcliff\, KY\, 40160\, United States
CATEGORIES:City Council,Event Calendar
END:VEVENT
BEGIN:VEVENT
DTSTART;TZID=UTC:20260205T170000
DTEND;TZID=UTC:20260205T180000
DTSTAMP:20260425T182223
CREATED:20180727T152432Z
LAST-MODIFIED:20180727T152432Z
UID:3937-1770310800-1770314400@radcliff.org
SUMMARY:Radcliff Planning Commission Meeting
DESCRIPTION:
URL:https://radcliff.org/event/radcliff-planning-commission-meeting/2026-02-05/
LOCATION:KY
END:VEVENT
BEGIN:VEVENT
DTSTART;TZID=UTC:20260120T173000
DTEND;TZID=UTC:20260120T183000
DTSTAMP:20260425T182223
CREATED:20190220T154240Z
LAST-MODIFIED:20190220T154240Z
UID:3934-1768930200-1768933800@radcliff.org
SUMMARY:Radcliff City Council Meeting
DESCRIPTION:
URL:https://radcliff.org/event/radcliff-city-council-meeting/2026-01-20/
LOCATION:City Hall\, 411 W Lincoln Trail Blvd\, Radcliff\, KY\, 40160\, United States
END:VEVENT
BEGIN:VEVENT
DTSTART;TZID=UTC:20260113T170000
DTEND;TZID=UTC:20260113T180000
DTSTAMP:20260425T182223
CREATED:20180215T192440Z
LAST-MODIFIED:20180215T192440Z
UID:3933-1768323600-1768327200@radcliff.org
SUMMARY:Radcliff Code Enforcement Meeting
DESCRIPTION:
URL:https://radcliff.org/event/radcliff-code-enforcement-meeting/2026-01-13/
LOCATION:Radcliff Fire Dept.\, 610 South Wilson Road\, Radcliff\, 40160
CATEGORIES:City Events,Event Calendar
END:VEVENT
BEGIN:VEVENT
DTSTART;TZID=UTC:20260112T170000
DTEND;TZID=UTC:20260112T180000
DTSTAMP:20260425T182223
CREATED:20180215T192416Z
LAST-MODIFIED:20180215T192416Z
UID:3931-1768237200-1768240800@radcliff.org
SUMMARY:City Council Work Session
DESCRIPTION:
URL:https://radcliff.org/event/city-council-work-session/2026-01-12/
LOCATION:City Hall\, 411 W Lincoln Trail Blvd\, Radcliff\, KY\, 40160\, United States
CATEGORIES:City Council,Event Calendar
END:VEVENT
BEGIN:VEVENT
DTSTART;TZID=UTC:20260112T170000
DTEND;TZID=UTC:20260112T180000
DTSTAMP:20260425T182223
CREATED:20180215T192416Z
LAST-MODIFIED:20180215T192416Z
UID:3932-1768237200-1768240800@radcliff.org
SUMMARY:City Council Work Session
DESCRIPTION:
URL:https://radcliff.org/event/city-council-work-session-2023-05-08/2026-01-12/
LOCATION:City Hall\, 411 W Lincoln Trail Blvd\, Radcliff\, KY\, 40160\, United States
CATEGORIES:City Council,Event Calendar
END:VEVENT
BEGIN:VEVENT
DTSTART;TZID=UTC:20260101T170000
DTEND;TZID=UTC:20260101T180000
DTSTAMP:20260425T182223
CREATED:20180727T152432Z
LAST-MODIFIED:20180727T152432Z
UID:3925-1767286800-1767290400@radcliff.org
SUMMARY:Radcliff Planning Commission Meeting
DESCRIPTION:
URL:https://radcliff.org/event/radcliff-planning-commission-meeting/2026-01-01/
LOCATION:KY
END:VEVENT
BEGIN:VEVENT
DTSTART;TZID=UTC:20251216T173000
DTEND;TZID=UTC:20251216T183000
DTSTAMP:20260425T182223
CREATED:20190220T154240Z
LAST-MODIFIED:20190220T154240Z
UID:3924-1765906200-1765909800@radcliff.org
SUMMARY:Radcliff City Council Meeting
DESCRIPTION:
URL:https://radcliff.org/event/radcliff-city-council-meeting/2025-12-16/
LOCATION:City Hall\, 411 W Lincoln Trail Blvd\, Radcliff\, KY\, 40160\, United States
END:VEVENT
BEGIN:VEVENT
DTSTART;TZID=UTC:20251209T170000
DTEND;TZID=UTC:20251209T180000
DTSTAMP:20260425T182223
CREATED:20180215T192440Z
LAST-MODIFIED:20180215T192440Z
UID:3923-1765299600-1765303200@radcliff.org
SUMMARY:Radcliff Code Enforcement Meeting
DESCRIPTION:
URL:https://radcliff.org/event/radcliff-code-enforcement-meeting/2025-12-09/
LOCATION:Radcliff Fire Dept.\, 610 South Wilson Road\, Radcliff\, 40160
CATEGORIES:City Events,Event Calendar
END:VEVENT
BEGIN:VEVENT
DTSTART;TZID=UTC:20251208T170000
DTEND;TZID=UTC:20251208T180000
DTSTAMP:20260425T182223
CREATED:20180215T192416Z
LAST-MODIFIED:20180215T192416Z
UID:3921-1765213200-1765216800@radcliff.org
SUMMARY:City Council Work Session
DESCRIPTION:
URL:https://radcliff.org/event/city-council-work-session/2025-12-08/
LOCATION:City Hall\, 411 W Lincoln Trail Blvd\, Radcliff\, KY\, 40160\, United States
CATEGORIES:City Council,Event Calendar
END:VEVENT
BEGIN:VEVENT
DTSTART;TZID=UTC:20251208T170000
DTEND;TZID=UTC:20251208T180000
DTSTAMP:20260425T182223
CREATED:20180215T192416Z
LAST-MODIFIED:20180215T192416Z
UID:3922-1765213200-1765216800@radcliff.org
SUMMARY:City Council Work Session
DESCRIPTION:
URL:https://radcliff.org/event/city-council-work-session-2023-05-08/2025-12-08/
LOCATION:City Hall\, 411 W Lincoln Trail Blvd\, Radcliff\, KY\, 40160\, United States
CATEGORIES:City Council,Event Calendar
END:VEVENT
BEGIN:VEVENT
DTSTART;TZID=UTC:20251204T170000
DTEND;TZID=UTC:20251204T180000
DTSTAMP:20260425T182223
CREATED:20180727T152432Z
LAST-MODIFIED:20180727T152432Z
UID:3920-1764867600-1764871200@radcliff.org
SUMMARY:Radcliff Planning Commission Meeting
DESCRIPTION:
URL:https://radcliff.org/event/radcliff-planning-commission-meeting/2025-12-04/
LOCATION:KY
END:VEVENT
BEGIN:VEVENT
DTSTART;TZID=UTC:20251118T173000
DTEND;TZID=UTC:20251118T183000
DTSTAMP:20260425T182223
CREATED:20190220T154240Z
LAST-MODIFIED:20190220T154240Z
UID:3862-1763487000-1763490600@radcliff.org
SUMMARY:Radcliff City Council Meeting
DESCRIPTION:
URL:https://radcliff.org/event/radcliff-city-council-meeting/2025-11-18/
LOCATION:City Hall\, 411 W Lincoln Trail Blvd\, Radcliff\, KY\, 40160\, United States
END:VEVENT
BEGIN:VEVENT
DTSTART;TZID=UTC:20251111T170000
DTEND;TZID=UTC:20251111T180000
DTSTAMP:20260425T182223
CREATED:20180215T192440Z
LAST-MODIFIED:20180215T192440Z
UID:3861-1762880400-1762884000@radcliff.org
SUMMARY:Radcliff Code Enforcement Meeting
DESCRIPTION:
URL:https://radcliff.org/event/radcliff-code-enforcement-meeting/2025-11-11/
LOCATION:Radcliff Fire Dept.\, 610 South Wilson Road\, Radcliff\, 40160
CATEGORIES:City Events,Event Calendar
END:VEVENT
BEGIN:VEVENT
DTSTART;TZID=UTC:20251110T170000
DTEND;TZID=UTC:20251110T180000
DTSTAMP:20260425T182223
CREATED:20180215T192416Z
LAST-MODIFIED:20180215T192416Z
UID:3859-1762794000-1762797600@radcliff.org
SUMMARY:City Council Work Session
DESCRIPTION:
URL:https://radcliff.org/event/city-council-work-session/2025-11-10/
LOCATION:City Hall\, 411 W Lincoln Trail Blvd\, Radcliff\, KY\, 40160\, United States
CATEGORIES:City Council,Event Calendar
END:VEVENT
BEGIN:VEVENT
DTSTART;TZID=UTC:20251110T170000
DTEND;TZID=UTC:20251110T180000
DTSTAMP:20260425T182223
CREATED:20180215T192416Z
LAST-MODIFIED:20180215T192416Z
UID:3860-1762794000-1762797600@radcliff.org
SUMMARY:City Council Work Session
DESCRIPTION:
URL:https://radcliff.org/event/city-council-work-session-2023-05-08/2025-11-10/
LOCATION:City Hall\, 411 W Lincoln Trail Blvd\, Radcliff\, KY\, 40160\, United States
CATEGORIES:City Council,Event Calendar
END:VEVENT
BEGIN:VEVENT
DTSTART;TZID=UTC:20251106T170000
DTEND;TZID=UTC:20251106T180000
DTSTAMP:20260425T182223
CREATED:20180727T152432Z
LAST-MODIFIED:20180727T152432Z
UID:3858-1762448400-1762452000@radcliff.org
SUMMARY:Radcliff Planning Commission Meeting
DESCRIPTION:
URL:https://radcliff.org/event/radcliff-planning-commission-meeting/2025-11-06/
LOCATION:KY
END:VEVENT
END:VCALENDAR