BEGIN:VCALENDAR
VERSION:2.0
PRODID:-//City of Radcliff - ECPv6.15.20//NONSGML v1.0//EN
CALSCALE:GREGORIAN
METHOD:PUBLISH
X-WR-CALNAME:City of Radcliff
X-ORIGINAL-URL:https://radcliff.org
X-WR-CALDESC:Events for City of Radcliff
REFRESH-INTERVAL;VALUE=DURATION:PT1H
X-Robots-Tag:noindex
X-PUBLISHED-TTL:PT1H
BEGIN:VTIMEZONE
TZID:UTC
BEGIN:STANDARD
TZOFFSETFROM:+0000
TZOFFSETTO:+0000
TZNAME:UTC
DTSTART:20250101T000000
END:STANDARD
END:VTIMEZONE
BEGIN:VEVENT
DTSTART;TZID=UTC:20260507T170000
DTEND;TZID=UTC:20260507T180000
DTSTAMP:20260425T175146
CREATED:20180727T152432Z
LAST-MODIFIED:20180727T152432Z
UID:4025-1778173200-1778176800@radcliff.org
SUMMARY:Radcliff Planning Commission Meeting
DESCRIPTION:
URL:https://radcliff.org/event/radcliff-planning-commission-meeting/2026-05-07/
END:VEVENT
BEGIN:VEVENT
DTSTART;TZID=UTC:20260604T170000
DTEND;TZID=UTC:20260604T180000
DTSTAMP:20260425T175146
CREATED:20180727T152432Z
LAST-MODIFIED:20180727T152432Z
UID:4039-1780592400-1780596000@radcliff.org
SUMMARY:Radcliff Planning Commission Meeting
DESCRIPTION:
URL:https://radcliff.org/event/radcliff-planning-commission-meeting/2026-06-04/
END:VEVENT
BEGIN:VEVENT
DTSTART;TZID=UTC:20260702T170000
DTEND;TZID=UTC:20260702T180000
DTSTAMP:20260425T175146
CREATED:20180727T152432Z
LAST-MODIFIED:20180727T152432Z
UID:4051-1783011600-1783015200@radcliff.org
SUMMARY:Radcliff Planning Commission Meeting
DESCRIPTION:
URL:https://radcliff.org/event/radcliff-planning-commission-meeting/2026-07-02/
END:VEVENT
BEGIN:VEVENT
DTSTART;TZID=UTC:20260806T170000
DTEND;TZID=UTC:20260806T180000
DTSTAMP:20260425T175146
CREATED:20180727T152432Z
LAST-MODIFIED:20180727T152432Z
UID:4088-1786035600-1786039200@radcliff.org
SUMMARY:Radcliff Planning Commission Meeting
DESCRIPTION:
URL:https://radcliff.org/event/radcliff-planning-commission-meeting/2026-08-06/
END:VEVENT
BEGIN:VEVENT
DTSTART;TZID=UTC:20260903T170000
DTEND;TZID=UTC:20260903T180000
DTSTAMP:20260425T175146
CREATED:20180727T152432Z
LAST-MODIFIED:20180727T152432Z
UID:4096-1788454800-1788458400@radcliff.org
SUMMARY:Radcliff Planning Commission Meeting
DESCRIPTION:
URL:https://radcliff.org/event/radcliff-planning-commission-meeting/2026-09-03/
END:VEVENT
BEGIN:VEVENT
DTSTART;TZID=UTC:20261001T170000
DTEND;TZID=UTC:20261001T180000
DTSTAMP:20260425T175146
CREATED:20180727T152432Z
LAST-MODIFIED:20180727T152432Z
UID:4101-1790874000-1790877600@radcliff.org
SUMMARY:Radcliff Planning Commission Meeting
DESCRIPTION:
URL:https://radcliff.org/event/radcliff-planning-commission-meeting/2026-10-01/
END:VEVENT
BEGIN:VEVENT
DTSTART;TZID=UTC:20261105T170000
DTEND;TZID=UTC:20261105T180000
DTSTAMP:20260425T175146
CREATED:20180727T152432Z
LAST-MODIFIED:20180727T152432Z
UID:4107-1793898000-1793901600@radcliff.org
SUMMARY:Radcliff Planning Commission Meeting
DESCRIPTION:
URL:https://radcliff.org/event/radcliff-planning-commission-meeting/2026-11-05/
END:VEVENT
BEGIN:VEVENT
DTSTART;TZID=UTC:20261203T170000
DTEND;TZID=UTC:20261203T180000
DTSTAMP:20260425T175146
CREATED:20180727T152432Z
LAST-MODIFIED:20180727T152432Z
UID:4113-1796317200-1796320800@radcliff.org
SUMMARY:Radcliff Planning Commission Meeting
DESCRIPTION:
URL:https://radcliff.org/event/radcliff-planning-commission-meeting/2026-12-03/
END:VEVENT
BEGIN:VEVENT
DTSTART;TZID=UTC:20270107T170000
DTEND;TZID=UTC:20270107T180000
DTSTAMP:20260425T175146
CREATED:20180727T152432Z
LAST-MODIFIED:20180727T152432Z
UID:4120-1799341200-1799344800@radcliff.org
SUMMARY:Radcliff Planning Commission Meeting
DESCRIPTION:
URL:https://radcliff.org/event/radcliff-planning-commission-meeting/2027-01-07/
END:VEVENT
BEGIN:VEVENT
DTSTART;TZID=UTC:20270204T170000
DTEND;TZID=UTC:20270204T180000
DTSTAMP:20260425T175146
CREATED:20180727T152432Z
LAST-MODIFIED:20180727T152432Z
UID:4130-1801760400-1801764000@radcliff.org
SUMMARY:Radcliff Planning Commission Meeting
DESCRIPTION:
URL:https://radcliff.org/event/radcliff-planning-commission-meeting/2027-02-04/
END:VEVENT
BEGIN:VEVENT
DTSTART;TZID=UTC:20270304T170000
DTEND;TZID=UTC:20270304T180000
DTSTAMP:20260425T175146
CREATED:20180727T152432Z
LAST-MODIFIED:20180727T152432Z
UID:4137-1804179600-1804183200@radcliff.org
SUMMARY:Radcliff Planning Commission Meeting
DESCRIPTION:
URL:https://radcliff.org/event/radcliff-planning-commission-meeting/2027-03-04/
END:VEVENT
BEGIN:VEVENT
DTSTART;TZID=UTC:20270401T170000
DTEND;TZID=UTC:20270401T180000
DTSTAMP:20260425T175146
CREATED:20180727T152432Z
LAST-MODIFIED:20180727T152432Z
UID:4146-1806598800-1806602400@radcliff.org
SUMMARY:Radcliff Planning Commission Meeting
DESCRIPTION:
URL:https://radcliff.org/event/radcliff-planning-commission-meeting/2027-04-01/
END:VEVENT
BEGIN:VEVENT
DTSTART;TZID=UTC:20270506T170000
DTEND;TZID=UTC:20270506T180000
DTSTAMP:20260425T175146
CREATED:20180727T152432Z
LAST-MODIFIED:20180727T152432Z
UID:4155-1809622800-1809626400@radcliff.org
SUMMARY:Radcliff Planning Commission Meeting
DESCRIPTION:
URL:https://radcliff.org/event/radcliff-planning-commission-meeting/2027-05-06/
END:VEVENT
BEGIN:VEVENT
DTSTART;TZID=UTC:20270603T170000
DTEND;TZID=UTC:20270603T180000
DTSTAMP:20260425T175146
CREATED:20180727T152432Z
LAST-MODIFIED:20180727T152432Z
UID:4160-1812042000-1812045600@radcliff.org
SUMMARY:Radcliff Planning Commission Meeting
DESCRIPTION:
URL:https://radcliff.org/event/radcliff-planning-commission-meeting/2027-06-03/
END:VEVENT
BEGIN:VEVENT
DTSTART;TZID=UTC:20270701T170000
DTEND;TZID=UTC:20270701T180000
DTSTAMP:20260425T175146
CREATED:20180727T152432Z
LAST-MODIFIED:20180727T152432Z
UID:4166-1814461200-1814464800@radcliff.org
SUMMARY:Radcliff Planning Commission Meeting
DESCRIPTION:
URL:https://radcliff.org/event/radcliff-planning-commission-meeting/2027-07-01/
END:VEVENT
BEGIN:VEVENT
DTSTART;TZID=UTC:20270805T170000
DTEND;TZID=UTC:20270805T180000
DTSTAMP:20260425T175146
CREATED:20180727T152432Z
LAST-MODIFIED:20180727T152432Z
UID:4186-1817485200-1817488800@radcliff.org
SUMMARY:Radcliff Planning Commission Meeting
DESCRIPTION:
URL:https://radcliff.org/event/radcliff-planning-commission-meeting/2027-08-05/
END:VEVENT
BEGIN:VEVENT
DTSTART;TZID=UTC:20270902T170000
DTEND;TZID=UTC:20270902T180000
DTSTAMP:20260425T175146
CREATED:20180727T152432Z
LAST-MODIFIED:20180727T152432Z
UID:4200-1819904400-1819908000@radcliff.org
SUMMARY:Radcliff Planning Commission Meeting
DESCRIPTION:
URL:https://radcliff.org/event/radcliff-planning-commission-meeting/2027-09-02/
END:VEVENT
BEGIN:VEVENT
DTSTART;TZID=UTC:20271007T170000
DTEND;TZID=UTC:20271007T180000
DTSTAMP:20260425T175146
CREATED:20180727T152432Z
LAST-MODIFIED:20180727T152432Z
UID:4222-1822928400-1822932000@radcliff.org
SUMMARY:Radcliff Planning Commission Meeting
DESCRIPTION:
URL:https://radcliff.org/event/radcliff-planning-commission-meeting/2027-10-07/
END:VEVENT
BEGIN:VEVENT
DTSTART;TZID=UTC:20271104T170000
DTEND;TZID=UTC:20271104T180000
DTSTAMP:20260425T175146
CREATED:20180727T152432Z
LAST-MODIFIED:20180727T152432Z
UID:4235-1825347600-1825351200@radcliff.org
SUMMARY:Radcliff Planning Commission Meeting
DESCRIPTION:
URL:https://radcliff.org/event/radcliff-planning-commission-meeting/2027-11-04/
END:VEVENT
BEGIN:VEVENT
DTSTART;TZID=UTC:20271202T170000
DTEND;TZID=UTC:20271202T180000
DTSTAMP:20260425T175146
CREATED:20180727T152432Z
LAST-MODIFIED:20180727T152432Z
UID:4240-1827766800-1827770400@radcliff.org
SUMMARY:Radcliff Planning Commission Meeting
DESCRIPTION:
URL:https://radcliff.org/event/radcliff-planning-commission-meeting/2027-12-02/
END:VEVENT
BEGIN:VEVENT
DTSTART;TZID=UTC:20280106T170000
DTEND;TZID=UTC:20280106T180000
DTSTAMP:20260425T175146
CREATED:20180727T152432Z
LAST-MODIFIED:20180727T152432Z
UID:4253-1830790800-1830794400@radcliff.org
SUMMARY:Radcliff Planning Commission Meeting
DESCRIPTION:
URL:https://radcliff.org/event/radcliff-planning-commission-meeting/2028-01-06/
END:VEVENT
BEGIN:VEVENT
DTSTART;TZID=UTC:20280203T170000
DTEND;TZID=UTC:20280203T180000
DTSTAMP:20260425T175146
CREATED:20180727T152432Z
LAST-MODIFIED:20180727T152432Z
UID:4260-1833210000-1833213600@radcliff.org
SUMMARY:Radcliff Planning Commission Meeting
DESCRIPTION:
URL:https://radcliff.org/event/radcliff-planning-commission-meeting/2028-02-03/
END:VEVENT
BEGIN:VEVENT
DTSTART;TZID=UTC:20280302T170000
DTEND;TZID=UTC:20280302T180000
DTSTAMP:20260425T175146
CREATED:20180727T152432Z
LAST-MODIFIED:20180727T152432Z
UID:4278-1835629200-1835632800@radcliff.org
SUMMARY:Radcliff Planning Commission Meeting
DESCRIPTION:
URL:https://radcliff.org/event/radcliff-planning-commission-meeting/2028-03-02/
END:VEVENT
BEGIN:VEVENT
DTSTART;TZID=UTC:20280406T170000
DTEND;TZID=UTC:20280406T180000
DTSTAMP:20260425T175146
CREATED:20180727T152432Z
LAST-MODIFIED:20180727T152432Z
UID:4285-1838653200-1838656800@radcliff.org
SUMMARY:Radcliff Planning Commission Meeting
DESCRIPTION:
URL:https://radcliff.org/event/radcliff-planning-commission-meeting/2028-04-06/
END:VEVENT
END:VCALENDAR